BEGIN:VCALENDAR
VERSION:2.0
PRODID:-//wp-events-plugin.com//7.2.3.1//EN
TZID:America/Los_Angeles
X-WR-TIMEZONE:America/Los_Angeles
BEGIN:VEVENT
UID:23104@uucb.org
DTSTART;TZID=America/Los_Angeles:20260803T090000
DTEND;TZID=America/Los_Angeles:20260807T160000
DTSTAMP:20260130T004824Z
URL:https://uucb.org/events/unitarian-universalist-day-camp/
SUMMARY:Chalice Camp 2026
DESCRIPTION:August 3 – August 7\, 2026\nChalice camp is a fun and meaning
 ful week-long summer day camp for rising 1st through 6th graders. At camp\
 , they learn values while expanding their knowledge and capacity to be art
 iculate about what they believe. The activities during the week include en
 ergetic daily outside worship\, classic childhood games\, drama\, art\, co
 oking\, community building\, and community service based on curriculum dev
 eloped by religious educators of our faith.
ATTACH;FMTTYPE=image/jpeg:https://uucb.org/wp-content/uploads/2025/01/Chal
 ice-Camp-2018-UU-World-Magazine-Niall-David-Photography-44271-e17382852586
 04.jpg
CATEGORIES:Special Event
END:VEVENT
BEGIN:VTIMEZONE
TZID:America/Los_Angeles
X-LIC-LOCATION:America/Los_Angeles
BEGIN:DAYLIGHT
DTSTART:20260308T030000
TZOFFSETFROM:-0800
TZOFFSETTO:-0700
TZNAME:PDT
END:DAYLIGHT
END:VTIMEZONE
END:VCALENDAR