BEGIN:VCALENDAR
VERSION:2.0
PRODID:-//wp-events-plugin.com//7.2.3.1//EN
TZID:America/Los_Angeles
X-WR-TIMEZONE:America/Los_Angeles
BEGIN:VEVENT
UID:23101@uucb.org
DTSTART;TZID=America/Los_Angeles:20260713T100000
DTEND;TZID=America/Los_Angeles:20260717T130000
DTSTAMP:20260209T221816Z
URL:https://uucb.org/events/ukulele-summer-camp-2026/
SUMMARY:Ukulele Summer Camp 2026
DESCRIPTION:Family-friendly (K and up) Ukulele Summer Camp at UUCB July 13-
 17 is now enrolling.  Parents are encouraged to enroll and learn along wit
 h their kids\, and families with two or more campers enrolled receive a di
 scount.
ATTACH;FMTTYPE=image/jpeg:https://uucb.org/wp-content/uploads/2026/01/RegF
 ormBanner_v2_2026.png
CATEGORIES:Special Event
END:VEVENT
BEGIN:VTIMEZONE
TZID:America/Los_Angeles
X-LIC-LOCATION:America/Los_Angeles
BEGIN:DAYLIGHT
DTSTART:20260308T030000
TZOFFSETFROM:-0800
TZOFFSETTO:-0700
TZNAME:PDT
END:DAYLIGHT
END:VTIMEZONE
END:VCALENDAR