BEGIN:VCALENDAR
VERSION:2.0
PRODID:-//wp-events-plugin.com//7.2.3.1//EN
TZID:America/Los_Angeles
X-WR-TIMEZONE:America/Los_Angeles
BEGIN:VEVENT
UID:22505@uucb.org
DTSTART;TZID=America/Los_Angeles:20240818T093000
DTEND;TZID=America/Los_Angeles:20240818T103000
DTSTAMP:20260409T220423Z
URL:https://uucb.org/events/summer-forum-examining-the-relationship-betwee
 n-spirituality-and-justice-efforts-uucb-intern-charlie-clason/
SUMMARY:Summer Forum:  "Making Room for the Stories We Don't See\," Present
 er\, Charlie Clason\, UUCB Intern
DESCRIPTION:9:30 a.m. In-Person\, Fireside Room\, and On Zoom\, please give
  yourself a gift on August 18 by attending Summer Forum's presentation by 
 UUCB Intern\, Charlie Clason. Charlie has spent this 2024 summer at UUCB s
 itting in on  various program meetings\, talking with congregants about s
 ocial justice as it relates to their spirituality\, helping with different
  projects and bringing to these activities her perspective and wisdom....C
 lick the heading for more about Charlie and for the Zoom link.
CATEGORIES:Personal Theology,Special Event
END:VEVENT
BEGIN:VTIMEZONE
TZID:America/Los_Angeles
X-LIC-LOCATION:America/Los_Angeles
BEGIN:DAYLIGHT
DTSTART:20240310T030000
TZOFFSETFROM:-0800
TZOFFSETTO:-0700
TZNAME:PDT
END:DAYLIGHT
END:VTIMEZONE
END:VCALENDAR