BEGIN:VCALENDAR
VERSION:2.0
PRODID:-//wp-events-plugin.com//7.2.3.1//EN
TZID:America/Los_Angeles
X-WR-TIMEZONE:America/Los_Angeles
BEGIN:VEVENT
UID:22432@uucb.org
DTSTART;TZID=America/Los_Angeles:20230924T093000
DTEND;TZID=America/Los_Angeles:20230924T103000
DTSTAMP:20260409T220422Z
URL:https://uucb.org/events/personal-theology-timothy-travis-humanism/
SUMMARY:Personal Theology - Timothy Travis - "Humanism"
DESCRIPTION:9:30 a.m. IN-PERSON and streaming to ZOOM. Timothy Travis is a 
 long-time member of the UUCB Humanist Connection group that meets weekly t
 o discuss and share viewpoints on morality\, ethics\, human development\, 
 the nature of the universe and so much more. For Timothy\, HUMANISM is the
  focus of his life and his talk will have you nodding your head as he pass
 ionately reminds us "We are all in this life together." Timothy will be pr
 esenting in-person. Masking is required in the Fireside Room. Click the ab
 ove heading for the link and more interesting information about Timothy.
CATEGORIES:Personal Theology,Special Event
END:VEVENT
BEGIN:VTIMEZONE
TZID:America/Los_Angeles
X-LIC-LOCATION:America/Los_Angeles
BEGIN:DAYLIGHT
DTSTART:20230312T030000
TZOFFSETFROM:-0800
TZOFFSETTO:-0700
TZNAME:PDT
END:DAYLIGHT
END:VTIMEZONE
END:VCALENDAR