BEGIN:VCALENDAR
VERSION:2.0
PRODID:-//wp-events-plugin.com//7.2.3.1//EN
TZID:America/Los_Angeles
X-WR-TIMEZONE:America/Los_Angeles
BEGIN:VEVENT
UID:22273@uucb.org
DTSTART;TZID=America/Los_Angeles:20211031T093000
DTEND;TZID=America/Los_Angeles:20211031T104500
DTSTAMP:20260409T220421Z
URL:https://uucb.org/events/personal-theology-the-rudderless-boat-images-t
 hat-guide-us-presenter-sue-ellen-parkinson/
SUMMARY:Personal Theology:  "The Rudderless Boat--Images that Guide Us."  P
 resenter\, Sue Ellen Parkinson
DESCRIPTION:9:30 a.m. Sue Ellen Parkinson is a visionary artist who explore
 s the Sacred Feminine through her paintings. Coming from outside the Chris
 tian tradition\, her work has led her on an unexpected journey that has pr
 ofoundly changed her life. Her dream-like paintings\, are interesting from
  both a spiritual and cultural perspective.  Click the heading above for t
 he link to the meeting.
CATEGORIES:Personal Theology,Special Event
END:VEVENT
BEGIN:VTIMEZONE
TZID:America/Los_Angeles
X-LIC-LOCATION:America/Los_Angeles
BEGIN:DAYLIGHT
DTSTART:20210314T030000
TZOFFSETFROM:-0800
TZOFFSETTO:-0700
TZNAME:PDT
END:DAYLIGHT
END:VTIMEZONE
END:VCALENDAR