BEGIN:VCALENDAR
VERSION:2.0
PRODID:-//wp-events-plugin.com//7.2.3.1//EN
TZID:America/Los_Angeles
X-WR-TIMEZONE:America/Los_Angeles
BEGIN:VEVENT
UID:22240@uucb.org
DTSTART;TZID=America/Los_Angeles:20210307T093000
DTEND;TZID=America/Los_Angeles:20210307T104500
DTSTAMP:20260409T220421Z
URL:https://uucb.org/events/personal-theology-returning-home-presenter-rev
 -dr-dorsey-o-blake/
SUMMARY:Personal Theology - "Returning Home." Presenter\, Rev. Dr. Dorsey O
 . Blake
DESCRIPTION:On March 7\, 2021\, at 9:30 a.m.\, UUCB is delighted to have th
 e Rev. Dr. Dorsey O. Blake\, speak to us about "Returning Home."  This wi
 ll be powerful.  Rev. Blake is the pastor of the Church for the Fellowshi
 p of All Peoples in San Francisco\, founded by the renowned Howard Thurman
 .  Rev. Blake will explore how the concept of being "led home" has influe
 nced his personal\, spiritual journey.  Please click the heading of this e
 vent for the Link.
CATEGORIES:Personal Theology,Special Event
END:VEVENT
BEGIN:VTIMEZONE
TZID:America/Los_Angeles
X-LIC-LOCATION:America/Los_Angeles
BEGIN:STANDARD
DTSTART:20201101T010000
TZOFFSETFROM:-0700
TZOFFSETTO:-0800
TZNAME:PST
END:STANDARD
END:VTIMEZONE
END:VCALENDAR