BEGIN:VCALENDAR
VERSION:2.0
PRODID:-//wp-events-plugin.com//7.2.3.1//EN
TZID:America/Los_Angeles
X-WR-TIMEZONE:America/Los_Angeles
BEGIN:VEVENT
UID:22555@uucb.org
DTSTART;TZID=America/Los_Angeles:20250126T093000
DTEND;TZID=America/Los_Angeles:20250126T103000
DTSTAMP:20260409T220423Z
URL:https://uucb.org/events/personal-theology-restorative-justice-why-it-m
 atters-dave-belden-and-kevin-skipper-presenters/
SUMMARY:Personal Theology - Restorative Justice: why it matters\, Dave Beld
 en and Kevin Skipper\, Presenters
DESCRIPTION:9:30 a.m.  In-person in the Fireside Room and available on Zoom
 \, UUCB member\, Dave Belden\, and his friend and colleague\, Kevin Skippe
 r\, know clearly that Restorative Justice can be seen as set of practices 
 but it is deeper than that.\nRestorative Justice is how WE respond to any 
 harm with healing\, instead of neglecting the person harmed or punishing t
 he person responsible.  Click the heading for the Zoom link and for more i
 nformation on this profound presentation being offered by Dave and Kevin. 
CATEGORIES:Adult Learning,Personal Theology,Special Event
END:VEVENT
BEGIN:VTIMEZONE
TZID:America/Los_Angeles
X-LIC-LOCATION:America/Los_Angeles
BEGIN:STANDARD
DTSTART:20241103T010000
TZOFFSETFROM:-0700
TZOFFSETTO:-0800
TZNAME:PST
END:STANDARD
END:VTIMEZONE
END:VCALENDAR