BEGIN:VCALENDAR
VERSION:2.0
PRODID:-//wp-events-plugin.com//7.2.3.1//EN
TZID:America/Los_Angeles
X-WR-TIMEZONE:America/Los_Angeles
BEGIN:VEVENT
UID:22241@uucb.org
DTSTART;TZID=America/Los_Angeles:20210321T093000
DTEND;TZID=America/Los_Angeles:20210321T104500
DTSTAMP:20260409T220421Z
URL:https://uucb.org/events/personal-theology-presenter-rev-phil-lawson-an
 d-mrs-jo-ann-lawson/
SUMMARY:Personal Theology - Rev. Phil Lawson and Mrs. Jo Ann Lawson - "Comm
 itment"
DESCRIPTION:9:30 a.m. - Personal Theology is honored to have Rev. Phil Laws
 on\, former minister of Easter Hill Methodist church and his wife\, Jo Ann
  Lawson\, share their personal journeys with the UUCB community.  Their T
 opic is "COMMITMENT."   Rev. Phil and JoAnn Lawson are well known to thos
 e in the spiritual community of Richmond\, CA.  Click the heading of this 
 event for the link.
CATEGORIES:Personal Theology,Special Event
END:VEVENT
BEGIN:VTIMEZONE
TZID:America/Los_Angeles
X-LIC-LOCATION:America/Los_Angeles
BEGIN:DAYLIGHT
DTSTART:20210314T030000
TZOFFSETFROM:-0800
TZOFFSETTO:-0700
TZNAME:PDT
END:DAYLIGHT
END:VTIMEZONE
END:VCALENDAR