BEGIN:VCALENDAR
VERSION:2.0
PRODID:-//wp-events-plugin.com//7.2.3.1//EN
TZID:America/Los_Angeles
X-WR-TIMEZONE:America/Los_Angeles
BEGIN:VEVENT
UID:22437@uucb.org
DTSTART;TZID=America/Los_Angeles:20231029T093000
DTEND;TZID=America/Los_Angeles:20231029T103000
DTSTAMP:20260409T220422Z
URL:https://uucb.org/events/personal-theology-kevin-fisher-paulson-sf-chro
 nicle-columnist/
SUMMARY:Personal Theology - Kevin Fisher-Paulson\, SF Chronicle columnist
DESCRIPTION:9:30 a.m. IN-PERSON and streaming to ZOOM. Kevin Fisher-Paulson
 \, SF Chronicle columnist\, has made so many of us laugh\, cry and be insp
 ired by his tender and hilariously honest tales of gay-parenting. But when
  cancer was discovered\, Kevin made a decision to go through the medical e
 xperience with curiosity\, humor and a commitment to look for joy. It is a
  joy to be with Kevin as he shares his spiritual journey with cancer. Clic
 k the above heading for the link.
CATEGORIES:Personal Theology,Special Event
END:VEVENT
BEGIN:VTIMEZONE
TZID:America/Los_Angeles
X-LIC-LOCATION:America/Los_Angeles
BEGIN:DAYLIGHT
DTSTART:20230312T030000
TZOFFSETFROM:-0800
TZOFFSETTO:-0700
TZNAME:PDT
END:DAYLIGHT
END:VTIMEZONE
END:VCALENDAR