BEGIN:VCALENDAR
VERSION:2.0
PRODID:-//wp-events-plugin.com//7.2.3.1//EN
TZID:America/Los_Angeles
X-WR-TIMEZONE:America/Los_Angeles
BEGIN:VEVENT
UID:22272@uucb.org
DTSTART;TZID=America/Los_Angeles:20211010T093000
DTEND;TZID=America/Los_Angeles:20211010T104500
DTSTAMP:20260409T220421Z
URL:https://uucb.org/events/personal-theology-julian-of-norwich-wisdom-in-
 a-time-of-pandemic-and-beyond-rev-dr-matthew-fox/
SUMMARY:Personal Theology-Julian of Norwich: Wisdom in a time of Pandemic a
 nd Beyond\, Rev. Dr. Matthew Fox
DESCRIPTION:9:30 a.m.  UUCB is honored that once again the wonderful human 
 being known as Rev. Dr. Matthew Fox will be presenting to our congregation
  from his new book\, "Julian of Norwich: Wisdom in a time of Pandemic and 
 Beyond\,"  Please join us at 9:20 a.m. for this fascinating discussion by 
 Rev. Fox.  Click the heading above for the full description and link.
CATEGORIES:Personal Theology,Special Event
END:VEVENT
BEGIN:VTIMEZONE
TZID:America/Los_Angeles
X-LIC-LOCATION:America/Los_Angeles
BEGIN:DAYLIGHT
DTSTART:20210314T030000
TZOFFSETFROM:-0800
TZOFFSETTO:-0700
TZNAME:PDT
END:DAYLIGHT
END:VTIMEZONE
END:VCALENDAR