BEGIN:VCALENDAR
VERSION:2.0
PRODID:-//wp-events-plugin.com//7.2.3.1//EN
TZID:America/Los_Angeles
X-WR-TIMEZONE:America/Los_Angeles
BEGIN:VEVENT
UID:23062@uucb.org
DTSTART;TZID=America/Los_Angeles:20251123T093000
DTEND;TZID=America/Los_Angeles:20251123T103000
DTSTAMP:20260409T220424Z
URL:https://uucb.org/events/personal-theology-josh-kornbluth-gather-around
 -weve-got-a-story-to-tell/
SUMMARY:Personal Theology - Josh Kornbluth "Gather Around\, We’ve Got a S
 tory to Tell"
DESCRIPTION:9:30 a.m. in-person in the Fireside Room and on Zoom\, Josh Kor
 nbluth\, writer\, actor\, performer\, In-person and on Zoom\, Fireside Roo
 m\, "Gather Around\, We’ve Got a Story to Tell."\nAll of us have experie
 nces that could be fashioned into a verbal story or narrative to tell if o
 nly we knew how to get started. Josh will discuss how he takes his thought
 s and ideas and forms them into a story to share with others. Hopefully\, 
 his suggestions will prompt attendees to give it a whirl themselves!  Clic
 k the heading for the Link.
ATTACH;FMTTYPE=image/jpeg:https://uucb.org/wp-content/uploads/2025/11/Josh
 -Kornbluth.jpg
CATEGORIES:Adult Learning,Personal Theology,Special Event
END:VEVENT
BEGIN:VTIMEZONE
TZID:America/Los_Angeles
X-LIC-LOCATION:America/Los_Angeles
BEGIN:STANDARD
DTSTART:20251102T010000
TZOFFSETFROM:-0700
TZOFFSETTO:-0800
TZNAME:PST
END:STANDARD
END:VTIMEZONE
END:VCALENDAR