BEGIN:VCALENDAR
VERSION:2.0
PRODID:-//wp-events-plugin.com//7.2.3.1//EN
TZID:America/Los_Angeles
X-WR-TIMEZONE:America/Los_Angeles
BEGIN:VEVENT
UID:23140@uucb.org
DTSTART;TZID=America/Los_Angeles:20260426T093000
DTEND;TZID=America/Los_Angeles:20260426T103000
DTSTAMP:20260419T222333Z
URL:https://uucb.org/events/personal-theology-dr-stephanie-krusemark-presi
 dent-starr-king-a-theology-of-light-and-darkness/
SUMMARY:Personal Theology:  Dr. Stephanie Krusemark\, President Starr King\
 , "A Theology of Light and Darkness"
DESCRIPTION:9:30 a.m. In-person and streamed to Zoom\, The Personal Theolog
 y Committee is thrilled to have as our speaker\, Dr. Stephanie Krusemark\,
  the new president of the Starr King School of the Ministry.  Dr. Krusema
 rk's presentation is entitled "A Theology of Light and Darkness: A Persona
 l Theology for Worship.  Click the heading for the Zoom link and for more 
 information about Dr. Krusemark's talk and background.
ATTACH;FMTTYPE=image/jpeg:https://uucb.org/wp-content/uploads/2026/04/Dr.-
 Stephanie-Krusemark-President-of-the-Starr-King-School-of-the-Ministry.png
CATEGORIES:Adult Learning,Personal Theology,Special Event
END:VEVENT
BEGIN:VTIMEZONE
TZID:America/Los_Angeles
X-LIC-LOCATION:America/Los_Angeles
BEGIN:DAYLIGHT
DTSTART:20260308T030000
TZOFFSETFROM:-0800
TZOFFSETTO:-0700
TZNAME:PDT
END:DAYLIGHT
END:VTIMEZONE
END:VCALENDAR