BEGIN:VCALENDAR
VERSION:2.0
PRODID:-//wp-events-plugin.com//7.2.3.1//EN
TZID:America/Los_Angeles
X-WR-TIMEZONE:America/Los_Angeles
BEGIN:VEVENT
UID:23141@uucb.org
DTSTART;TZID=America/Los_Angeles:20260503T093000
DTEND;TZID=America/Los_Angeles:20260503T103000
DTSTAMP:20260419T230742Z
URL:https://uucb.org/events/personal-theology-dr-mary-mackey-author-and-po
 et-above-us-beneath-us-around-us-inside-us-the-light-of-creation/
SUMMARY:Personal Theology:  Dr. Mary Mackey\, Author and Poet\, "Above Us\,
  Beneath Us\, Around Us\, Inside Us: The Light of Creation"
DESCRIPTION:9:30 a.m. In-person in the Fireside Room and streamed to Zoom. 
  The Personal Theology Committee is delighted to have Dr. Mary Mackey\, au
 thor and poet\, present her personal theology talk "Above Us\, Beneath Us\
 , Around Us\, Inside Us: The Light of Creation."  Dr. Mary Mackey\, an Eme
 ritus Professor of English\, taught Creative Writing and Film at the gradu
 ate and undergraduate levels at California State University\, Sacramento u
 ntil her retirement in 2008. Her former students include Ryan Coogler\, wr
 iter and director of the films Fruitvale Station\, Creed\, Black Panther a
 nd Sinners.  Click the heading for the Zoom link and more information abou
 t Mary.
ATTACH;FMTTYPE=image/jpeg:https://uucb.org/wp-content/uploads/2026/04/Dr.-
 Mary-Mackey-Author-Poet-Personal-Theology-Speaker-May-3-2026.png
CATEGORIES:Adult Learning,Personal Theology,Special Event
END:VEVENT
BEGIN:VTIMEZONE
TZID:America/Los_Angeles
X-LIC-LOCATION:America/Los_Angeles
BEGIN:DAYLIGHT
DTSTART:20260308T030000
TZOFFSETFROM:-0800
TZOFFSETTO:-0700
TZNAME:PDT
END:DAYLIGHT
END:VTIMEZONE
END:VCALENDAR