BEGIN:VCALENDAR
VERSION:2.0
PRODID:-//wp-events-plugin.com//7.2.3.1//EN
TZID:America/Los_Angeles
X-WR-TIMEZONE:America/Los_Angeles
BEGIN:VEVENT
UID:22558@uucb.org
DTSTART;TZID=America/Los_Angeles:20250209T093000
DTEND;TZID=America/Los_Angeles:20250209T103000
DTSTAMP:20260409T220424Z
URL:https://uucb.org/events/personal-theology-dr-brent-dockur-why-saul-pau
 li-mean-really-why-toward-a-conversation-with-the-messianic-jewish-tentmak
 er/
SUMMARY:Personal Theology:  Dr. Brent Duckor\, "Why Saul/Paul…I mean real
 ly\, why?"  Toward a conversation with the Messianic Jewish Tentmaker
DESCRIPTION:9:30 a.m. In-Person in the Fireside Room and on Zoom\, The Pers
 onal Theology program is thrilled to have Dr. Brent Duckor present a conve
 rsation with us\, UU folks\, Dr. Brent and Saul (aka Paul)\, the disciple 
 of Jesus.  Wow! Click the heading for the Zoom Link and more information. 
  
CATEGORIES:Personal Theology,Special Event
END:VEVENT
BEGIN:VTIMEZONE
TZID:America/Los_Angeles
X-LIC-LOCATION:America/Los_Angeles
BEGIN:STANDARD
DTSTART:20241103T010000
TZOFFSETFROM:-0700
TZOFFSETTO:-0800
TZNAME:PST
END:STANDARD
END:VTIMEZONE
END:VCALENDAR