BEGIN:VCALENDAR
VERSION:2.0
PRODID:-//wp-events-plugin.com//7.2.3.1//EN
TZID:America/Los_Angeles
X-WR-TIMEZONE:America/Los_Angeles
BEGIN:VEVENT
UID:22237@uucb.org
DTSTART;TZID=America/Los_Angeles:20210207T093000
DTEND;TZID=America/Los_Angeles:20210207T104500
DTSTAMP:20260409T220420Z
URL:https://uucb.org/events/personal-theology-compassion-the-key-to-accoun
 tability-presenter-rev-cathleen-cox/
SUMMARY:Personal Theology - "Compassion: the Key to Accountability." Presen
 ter\, Rev. Cathleen Cox
DESCRIPTION:Personal Theology will host Rev. Cathleen Cox\, retired Communi
 ty Minister at UUCB and a life long supporter of UUCB congregants in confl
 ict resolution\, leadership training\, and spiritual direction. She is amo
 ng our most beloved community ministers and will be talking on the topic\,
  "Compassion: the Key to Accountability." Click the heading above for info
  and the Link.
CATEGORIES:Personal Theology,Special Event
END:VEVENT
BEGIN:VTIMEZONE
TZID:America/Los_Angeles
X-LIC-LOCATION:America/Los_Angeles
BEGIN:STANDARD
DTSTART:20201101T010000
TZOFFSETFROM:-0700
TZOFFSETTO:-0800
TZNAME:PST
END:STANDARD
END:VTIMEZONE
END:VCALENDAR