BEGIN:VCALENDAR
VERSION:2.0
PRODID:-//wp-events-plugin.com//7.2.3.1//EN
TZID:America/Los_Angeles
X-WR-TIMEZONE:America/Los_Angeles
BEGIN:VEVENT
UID:22278@uucb.org
DTSTART;TZID=America/Los_Angeles:20211219T093000
DTEND;TZID=America/Los_Angeles:20211219T104500
DTSTAMP:20260409T220421Z
URL:https://uucb.org/events/personal-theology-building-bridges-presenter-r
 ev-kenneth-marino/
SUMMARY:Personal Theology - Yoga as a Spiritual Practice\, Presenter\, Kenn
 eth Marino\, Ministerial Intern
DESCRIPTION:9:30 a.m. Kenneth Marino\, former Ministerial Intern at UUCB wi
 ll present on the topic of "Yoga as a Spiritual Practice."  Ken has been s
 tudying Yoga for forty years and will offer his insights and experiences i
 nto this most ancient tradition.  Ken is from New York and completed his M
 aster of Divinity degree at Drew University.  He is an author\, musician\,
  yoga teacher\, and a Reiki Master.  Please take this opportunity to get t
 o know more about the power of Yoga for our mental\, physical and emotiona
 l health.  Click the heading for more information and the Zoom link.
CATEGORIES:Personal Theology,Special Event
END:VEVENT
BEGIN:VTIMEZONE
TZID:America/Los_Angeles
X-LIC-LOCATION:America/Los_Angeles
BEGIN:STANDARD
DTSTART:20211107T010000
TZOFFSETFROM:-0700
TZOFFSETTO:-0800
TZNAME:PST
END:STANDARD
END:VTIMEZONE
END:VCALENDAR