BEGIN:VCALENDAR
VERSION:2.0
PRODID:-//wp-events-plugin.com//7.2.3.1//EN
TZID:America/Los_Angeles
X-WR-TIMEZONE:America/Los_Angeles
BEGIN:VEVENT
UID:22556@uucb.org
DTSTART;TZID=America/Los_Angeles:20250119T093000
DTEND;TZID=America/Los_Angeles:20250119T103000
DTSTAMP:20260409T220423Z
URL:https://uucb.org/events/personal-theology-a-conversation-with-my-uu-fr
 iends-rev-dr-alvin-c-bernstine/
SUMMARY:Personal Theology\, Rev. Dr. Alvin C. Bernstine presentation:  "The
  Burden of Hope" Honoring Dr. Martin Luther King\, Jr. Day
DESCRIPTION:9:30 a.m. In-Person and available on Zoom.  There are people wh
 ose very presence instills a sense of solidity\, hope\, resilience\, and c
 ompassion.  The Rev. Dr. Alvin Bernstine is one of those people.  Click 
 the heading for the Zoom link and more information on Rev. Bernstine.
CATEGORIES:Adult Learning,Personal Theology,Special Event
END:VEVENT
BEGIN:VTIMEZONE
TZID:America/Los_Angeles
X-LIC-LOCATION:America/Los_Angeles
BEGIN:STANDARD
DTSTART:20241103T010000
TZOFFSETFROM:-0700
TZOFFSETTO:-0800
TZNAME:PST
END:STANDARD
END:VTIMEZONE
END:VCALENDAR