BEGIN:VCALENDAR
VERSION:2.0
PRODID:-//wp-events-plugin.com//7.2.3.1//EN
TZID:America/Los_Angeles
X-WR-TIMEZONE:America/Los_Angeles
BEGIN:VEVENT
UID:20427@uucb.org
DTSTART;TZID=America/Los_Angeles:20191124T093000
DTEND;TZID=America/Los_Angeles:20191124T104500
DTSTAMP:20260409T220419Z
URL:https://uucb.org/events/personal-theology-2-2019-11-24/
SUMMARY:Personal Theology: Cordell Sloan
DESCRIPTION:Cordell Sloan\, UUCB Board of Trustee\, Technology guru\; dream
  expert\; jazz musician and son of Rev. Cordell Sloan\, Sr. Cordell says 
 “There have been a number of times in my life (And I'm sure yours too.)
  when necessity\, that fecund mother of invention\, required a personal 
 reinvention. I've had a number of occasions requiring a makeover of mys
 elf as well as studying others pursuing a growth driven journey and from 
 each of these experiences I find that there are many factors that consis
 tently come into play when we succeed in renewal.” “My Toolkit For Se
 lf Invention.”\n\n[audio mp3="http://uucb.org/wp-content/uploads/2019/06
 /20191124-uucb-Cordell-Sloan.mp3"][/audio]
CATEGORIES:Adult Learning,Personal Theology
LOCATION:Fireside Room\, 1 Lawson Road\, Kensington\, United States
GEO:37.9181539;-122.28260999999998
X-APPLE-STRUCTURED-LOCATION;VALUE=URI;X-ADDRESS=1 Lawson Road\, Kensington\
 , United States;X-APPLE-RADIUS=100;X-TITLE=Fireside Room:geo:37.9181539,-1
 22.28260999999998
END:VEVENT
BEGIN:VTIMEZONE
TZID:America/Los_Angeles
X-LIC-LOCATION:America/Los_Angeles
BEGIN:STANDARD
DTSTART:20191103T010000
TZOFFSETFROM:-0700
TZOFFSETTO:-0800
TZNAME:PST
END:STANDARD
END:VTIMEZONE
END:VCALENDAR