BEGIN:VCALENDAR
VERSION:2.0
PRODID:-//wp-events-plugin.com//7.2.3.1//EN
TZID:America/Los_Angeles
X-WR-TIMEZONE:America/Los_Angeles
BEGIN:VEVENT
UID:20424@uucb.org
DTSTART;TZID=America/Los_Angeles:20191103T093000
DTEND;TZID=America/Los_Angeles:20191103T104500
DTSTAMP:20260409T220419Z
URL:https://uucb.org/events/personal-theology-2-2019-11-03/
SUMMARY:Personal Theology: Dr. Bill Garrett
DESCRIPTION:[audio mp3="http://uucb.org/wp-content/uploads/2019/06/20191103
 -uucb-Dr-Bill-Garrett.mp3"][/audio]\n\nBill Garrett\, retired Professor of
  Philosophy and Religion\, taught at JFK University\, San Francisco State\
 , Fromm institute\, CIIS and Osher Lifelong Learning Institute. The Enemy 
 of the People.
CATEGORIES:Adult Learning,Personal Theology
LOCATION:Fireside Room\, 1 Lawson Road\, Kensington\, United States
GEO:37.9181539;-122.28260999999998
X-APPLE-STRUCTURED-LOCATION;VALUE=URI;X-ADDRESS=1 Lawson Road\, Kensington\
 , United States;X-APPLE-RADIUS=100;X-TITLE=Fireside Room:geo:37.9181539,-1
 22.28260999999998
END:VEVENT
BEGIN:VTIMEZONE
TZID:America/Los_Angeles
X-LIC-LOCATION:America/Los_Angeles
BEGIN:STANDARD
DTSTART:20191103T010000
TZOFFSETFROM:-0700
TZOFFSETTO:-0800
TZNAME:PST
END:STANDARD
END:VTIMEZONE
END:VCALENDAR