BEGIN:VCALENDAR
VERSION:2.0
PRODID:-//wp-events-plugin.com//7.2.3.1//EN
TZID:America/Los_Angeles
X-WR-TIMEZONE:America/Los_Angeles
BEGIN:VEVENT
UID:20418@uucb.org
DTSTART;TZID=America/Los_Angeles:20190922T093000
DTEND;TZID=America/Los_Angeles:20190922T104500
DTSTAMP:20260409T220419Z
URL:https://uucb.org/events/personal-theology-2-2019-09-22/
SUMMARY:Personal Theology: James O'Hara
DESCRIPTION:James O’Hara is a former math instructor\, massage instructor
 \, dream worker\, and a Brother in a Catholic religious order for 30 years
 . He is the author of a book about his experiences living in India and Nep
 al for 7 years\, where he came to question his vows and beliefs and left t
 he Brotherhood and the Church. Jim is currently writing a second book and 
 will talk about the topic of his book. “Accidental Soul Work.”\n\n[au
 dio mp3="http://uucb.org/wp-content/uploads/2019/06/20190922-uucb-Real-Jam
 es-OHara.mp3"][/audio]
CATEGORIES:Adult Learning,Personal Theology
LOCATION:Fireside Room\, 1 Lawson Road\, Kensington\, United States
GEO:37.9181539;-122.28260999999998
X-APPLE-STRUCTURED-LOCATION;VALUE=URI;X-ADDRESS=1 Lawson Road\, Kensington\
 , United States;X-APPLE-RADIUS=100;X-TITLE=Fireside Room:geo:37.9181539,-1
 22.28260999999998
END:VEVENT
BEGIN:VTIMEZONE
TZID:America/Los_Angeles
X-LIC-LOCATION:America/Los_Angeles
BEGIN:DAYLIGHT
DTSTART:20190310T030000
TZOFFSETFROM:-0800
TZOFFSETTO:-0700
TZNAME:PDT
END:DAYLIGHT
END:VTIMEZONE
END:VCALENDAR