BEGIN:VCALENDAR
VERSION:2.0
PRODID:-//wp-events-plugin.com//7.2.3.1//EN
TZID:America/Los_Angeles
X-WR-TIMEZONE:America/Los_Angeles
BEGIN:VEVENT
UID:15101@uucb.org
DTSTART;TZID=America/Los_Angeles:20190519T093000
DTEND;TZID=America/Los_Angeles:20190519T104500
DTSTAMP:20260409T220419Z
URL:https://uucb.org/events/personal-theology-2-2019-05-19/
SUMMARY:Personal Theology: Dr. Victoria Lee
DESCRIPTION:[audio mp3="http://uucb.org/wp-content/uploads/2018/06/20190519
 -uucb-Dr-Victoria-Lee.mp3"][/audio]\n\nDr. Victoria Lee is a UUCB member\,
  holds a doctoral degree\, two master's degrees and a B.A. degree from Geo
 rgetown University\, Western Graduate School\, and George Washington Unive
 rsity. Victoria is a licensed clinical psychologist\, a couples’ counsel
 or and a certified sex therapist. She is a past-President of Santa Clara V
 alley Marriage and Family Therapists\, and is a past Director of the Maste
 rs in Counseling Program at College of Notre Dame. “Sacred Relationships
  and Sacred Sexuality.”
CATEGORIES:Adult Learning,Personal Theology
LOCATION:Fireside Room\, 1 Lawson Road\, Kensington\, United States
GEO:37.9181539;-122.28260999999998
X-APPLE-STRUCTURED-LOCATION;VALUE=URI;X-ADDRESS=1 Lawson Road\, Kensington\
 , United States;X-APPLE-RADIUS=100;X-TITLE=Fireside Room:geo:37.9181539,-1
 22.28260999999998
END:VEVENT
BEGIN:VTIMEZONE
TZID:America/Los_Angeles
X-LIC-LOCATION:America/Los_Angeles
BEGIN:DAYLIGHT
DTSTART:20190310T030000
TZOFFSETFROM:-0800
TZOFFSETTO:-0700
TZNAME:PDT
END:DAYLIGHT
END:VTIMEZONE
END:VCALENDAR