BEGIN:VCALENDAR
VERSION:2.0
PRODID:-//wp-events-plugin.com//7.2.3.1//EN
TZID:America/Los_Angeles
X-WR-TIMEZONE:America/Los_Angeles
BEGIN:VEVENT
UID:15100@uucb.org
DTSTART;TZID=America/Los_Angeles:20190512T093000
DTEND;TZID=America/Los_Angeles:20190512T104500
DTSTAMP:20260409T220419Z
URL:https://uucb.org/events/personal-theology-2-2019-05-12/
SUMMARY:Personal Theology: Dr. Bernard Schlager
DESCRIPTION:[audio mp3="http://uucb.org/wp-content/uploads/2018/06/20190512
 -uucb-Dr-Bernard-Schlager.mp3"][/audio]\n\nDr. Bernard Schlager is Associ
 ate Professor of Historical &amp\; Cultural Studies and Executive Director
 \, Center for LGBTQ and Gender Studies\, in Religion (CLGS) at Pacific Sch
 ool of Religion in Berkeley. His research interests include queer studies\
 , the history of Christianity\, LGBT pastoral care\, and medieval social a
 nd religious history. He has published articles on ancient church history\
 , medieval hagiography\, the history of sexuality\, and the history of edu
 cation\, and has recently co-authored with David Kundtz the second edit
 ion of their book: Ministry Among God’s Queer Folk: LGBT Pastoral Care 
 (2018). Dr. Schlager will explore the connections between Christianity and
  the LGBTQ liberation movement in US History. “Queer and Christian.”
CATEGORIES:Adult Learning,Personal Theology
LOCATION:Fireside Room\, 1 Lawson Road\, Kensington\, United States
GEO:37.9181539;-122.28260999999998
X-APPLE-STRUCTURED-LOCATION;VALUE=URI;X-ADDRESS=1 Lawson Road\, Kensington\
 , United States;X-APPLE-RADIUS=100;X-TITLE=Fireside Room:geo:37.9181539,-1
 22.28260999999998
END:VEVENT
BEGIN:VTIMEZONE
TZID:America/Los_Angeles
X-LIC-LOCATION:America/Los_Angeles
BEGIN:DAYLIGHT
DTSTART:20190310T030000
TZOFFSETFROM:-0800
TZOFFSETTO:-0700
TZNAME:PDT
END:DAYLIGHT
END:VTIMEZONE
END:VCALENDAR