BEGIN:VCALENDAR
VERSION:2.0
PRODID:-//wp-events-plugin.com//7.2.3.1//EN
TZID:America/Los_Angeles
X-WR-TIMEZONE:America/Los_Angeles
BEGIN:VEVENT
UID:15099@uucb.org
DTSTART;TZID=America/Los_Angeles:20190505T093000
DTEND;TZID=America/Los_Angeles:20190505T104500
DTSTAMP:20260409T220419Z
URL:https://uucb.org/events/personal-theology-2-2019-05-05/
SUMMARY:Personal Theology: Rev. Lehel Molnár
DESCRIPTION:[audio mp3="http://uucb.org/wp-content/uploads/2018/06/20190505
 -uucb-Rev-Lehel-Molnár.mp3"][/audio]\n\nRev. Lehel Molnár is the 2018-20
 19 Balazs Scholar at Starr King School for the Ministry. After his graduat
 ing from the Unitarian Faculty of the Protestant Theological Institute in 
 Kolozsvár\, he was then appointed as the archivist. He is presently a PHD
  student at the University of Szeged (Hungary) where his dissertation is o
 n the Cultural and Church History of Transylvania between 1690-1725. “Th
 e Hungarian Unitarian Church Celebrates 450 Years\; Preserving its Archiv
 al Heritage.”
CATEGORIES:Adult Learning,Personal Theology
LOCATION:Fireside Room\, 1 Lawson Road\, Kensington\, United States
GEO:37.9181539;-122.28260999999998
X-APPLE-STRUCTURED-LOCATION;VALUE=URI;X-ADDRESS=1 Lawson Road\, Kensington\
 , United States;X-APPLE-RADIUS=100;X-TITLE=Fireside Room:geo:37.9181539,-1
 22.28260999999998
END:VEVENT
BEGIN:VTIMEZONE
TZID:America/Los_Angeles
X-LIC-LOCATION:America/Los_Angeles
BEGIN:DAYLIGHT
DTSTART:20190310T030000
TZOFFSETFROM:-0800
TZOFFSETTO:-0700
TZNAME:PDT
END:DAYLIGHT
END:VTIMEZONE
END:VCALENDAR