BEGIN:VCALENDAR
VERSION:2.0
PRODID:-//wp-events-plugin.com//7.2.3.1//EN
TZID:America/Los_Angeles
X-WR-TIMEZONE:America/Los_Angeles
BEGIN:VEVENT
UID:15095@uucb.org
DTSTART;TZID=America/Los_Angeles:20190407T093000
DTEND;TZID=America/Los_Angeles:20190407T104500
DTSTAMP:20260409T220418Z
URL:https://uucb.org/events/personal-theology-2-2019-04-07/
SUMMARY:Personal Theology: Dr. W. Frederick Shaw
DESCRIPTION:Dr. W. Frederick Shaw is a UUCB member and the CEO and founder 
 of Developing Indigenous Resources\, which empowers people living in slums
  of developing countries to provide their own health and human services. T
 BA\n\n[audio mp3="http://uucb.org/wp-content/uploads/2018/06/20190407-uucb
 -Dr-W-Frederick-Shaw.mp3"][/audio]
CATEGORIES:Adult Learning,Personal Theology
LOCATION:Fireside Room\, 1 Lawson Road\, Kensington\, United States
GEO:37.9181539;-122.28260999999998
X-APPLE-STRUCTURED-LOCATION;VALUE=URI;X-ADDRESS=1 Lawson Road\, Kensington\
 , United States;X-APPLE-RADIUS=100;X-TITLE=Fireside Room:geo:37.9181539,-1
 22.28260999999998
END:VEVENT
BEGIN:VTIMEZONE
TZID:America/Los_Angeles
X-LIC-LOCATION:America/Los_Angeles
BEGIN:DAYLIGHT
DTSTART:20190310T030000
TZOFFSETFROM:-0800
TZOFFSETTO:-0700
TZNAME:PDT
END:DAYLIGHT
END:VTIMEZONE
END:VCALENDAR