BEGIN:VCALENDAR
VERSION:2.0
PRODID:-//wp-events-plugin.com//7.2.3.1//EN
TZID:America/Los_Angeles
X-WR-TIMEZONE:America/Los_Angeles
BEGIN:VEVENT
UID:23131@uucb.org
DTSTART;TZID=America/Los_Angeles:20260405T110000
DTEND;TZID=America/Los_Angeles:20260405T121500
DTSTAMP:20260330T175659Z
URL:https://uucb.org/events/easter-worship-service/
SUMMARY:Easter Worship Service
DESCRIPTION:Rev. Marcus Liefert\n\nEaster egg hunt at 10 am\n\nService at 1
 1 am\n\nParking will be impacted by higher attendance. Please plan accordi
 ngly.
CATEGORIES:Worship Services
END:VEVENT
BEGIN:VTIMEZONE
TZID:America/Los_Angeles
X-LIC-LOCATION:America/Los_Angeles
BEGIN:DAYLIGHT
DTSTART:20260308T030000
TZOFFSETFROM:-0800
TZOFFSETTO:-0700
TZNAME:PDT
END:DAYLIGHT
END:VTIMEZONE
END:VCALENDAR