BEGIN:VCALENDAR
VERSION:2.0
PRODID:-//wp-events-plugin.com//7.2.3.1//EN
TZID:America/Los_Angeles
X-WR-TIMEZONE:America/Los_Angeles
BEGIN:VEVENT
UID:23135@uucb.org
DTSTART;TZID=America/Los_Angeles:20260503T110000
DTEND;TZID=America/Los_Angeles:20260503T121500
DTSTAMP:20260330T184153Z
URL:https://uucb.org/events/doctors-of-durability-worship-service/
SUMMARY:Doctors of Durability Worship Service
DESCRIPTION:UUCB has been honoring our elders since 1952 and affirming thei
 r contributions to our church and to humanity. Those with milestone birthd
 ays are awarded special distinction as "Doctor of Durability."
CATEGORIES:Worship Services
END:VEVENT
BEGIN:VTIMEZONE
TZID:America/Los_Angeles
X-LIC-LOCATION:America/Los_Angeles
BEGIN:DAYLIGHT
DTSTART:20260308T030000
TZOFFSETFROM:-0800
TZOFFSETTO:-0700
TZNAME:PDT
END:DAYLIGHT
END:VTIMEZONE
END:VCALENDAR